BEGIN:VCALENDAR
VERSION:2.0
PRODID:-//servingseniors.org//NONSGML kigkonsult.se iCalcreator 2.30.10//
CALSCALE:GREGORIAN
METHOD:PUBLISH
UID:28628745-8e87-40b3-ad74-6d6823589c5a
X-WR-CALDESC:Serving Seniors PAWS Pet Food Distribution!\n\nPick up dog and
  cat food and supplies for your furry companion.\nBring your own bag!\n\nW
 hen: Third Thursday of every month at the Gary and Mary West Senior Wellne
 ss Center\n11am-1pm
X-WR-RELCALID:5034529c35625166e7294ae492149967
X-WR-TIMEZONE:America/Los_Angeles
BEGIN:VTIMEZONE
TZID:America/Los_Angeles
BEGIN:STANDARD
TZNAME:PST
DTSTART:20201101T020000
TZOFFSETFROM:-0700
TZOFFSETTO:-0800
RDATE:20211107T020000
END:STANDARD
BEGIN:DAYLIGHT
TZNAME:PDT
DTSTART:20210314T020000
TZOFFSETFROM:-0800
TZOFFSETTO:-0700
RDATE:20220313T020000
END:DAYLIGHT
END:VTIMEZONE
BEGIN:VEVENT
UID:b82c7acc-a57a-4255-aa08-a69991e6cfaf
DTSTAMP:20260426T035536Z
DESCRIPTION:Serving Seniors PAWS Pet Food Distribution!\n\nPick up dog and 
 cat food and supplies for your furry companion.\nBring your own bag!\n\nWh
 en: Third Thursday of every month at the Gary and Mary West Senior Wellnes
 s Center\n11am-1pm
DTSTART;TZID=America/Los_Angeles:20210318T110000
DTEND;TZID=America/Los_Angeles:20210318T130000
LOCATION:Gary and Mary West Senior Wellness Center\, 1525 4th Ave\, San Die
 go\, CA 92101
SUMMARY:PAWS Pet Food Distribution: Gary and Mary West Senior Wellness Cent
 er
END:VEVENT
END:VCALENDAR
