BEGIN:VCALENDAR
VERSION:2.0
PRODID:-//servingseniors.org//NONSGML kigkonsult.se iCalcreator 2.30.10//
CALSCALE:GREGORIAN
METHOD:PUBLISH
UID:6ecff178-6de9-4be1-82ee-09d849d7e482
X-WR-CALDESC:Volunteer to serve meals for our first lunch service. Join us\
 , background check required. Masks optional
X-WR-RELCALID:abfe6f88c6cd22e66adc32211640bb81
X-WR-TIMEZONE:America/Los_Angeles
BEGIN:VTIMEZONE
TZID:America/Los_Angeles
BEGIN:STANDARD
TZNAME:PST
DTSTART:20251102T020000
TZOFFSETFROM:-0700
TZOFFSETTO:-0800
RDATE:20261101T020000
END:STANDARD
BEGIN:DAYLIGHT
TZNAME:PDT
DTSTART:20260308T020000
TZOFFSETFROM:-0800
TZOFFSETTO:-0700
RDATE:20270314T020000
END:DAYLIGHT
END:VTIMEZONE
BEGIN:VEVENT
UID:3da8d326-f964-4a87-8752-4ad94d39c195
DTSTAMP:20260422T091143Z
DESCRIPTION:Volunteer to serve meals for our first lunch service. Join us\,
  background check required. Masks optional
DTSTART;TZID=America/Los_Angeles:20260420T104500
DTEND;TZID=America/Los_Angeles:20260420T120000
LOCATION:Gary and Mary West Senior Wellness Center\, 1525 4th Ave\, San Die
 go\, CA 92101 US
SUMMARY:Lunch Service 1
END:VEVENT
END:VCALENDAR
