BEGIN:VCALENDAR
VERSION:2.0
PRODID:-//servingseniors.org//NONSGML kigkonsult.se iCalcreator 2.30.10//
CALSCALE:GREGORIAN
METHOD:PUBLISH
UID:e60ed431-0a1a-4213-bd3d-6a071f6307b6
X-WR-CALDESC:Volunteer to serve meals for our first lunch service. Join us\
 , background check required. Masks optional
X-WR-RELCALID:14f1f44a41dcb36003f77d3ed6111567
X-WR-TIMEZONE:America/Los_Angeles
BEGIN:VTIMEZONE
TZID:America/Los_Angeles
BEGIN:STANDARD
TZNAME:PST
DTSTART:20251102T020000
TZOFFSETFROM:-0700
TZOFFSETTO:-0800
RDATE:20261101T020000
END:STANDARD
BEGIN:DAYLIGHT
TZNAME:PDT
DTSTART:20260308T020000
TZOFFSETFROM:-0800
TZOFFSETTO:-0700
RDATE:20270314T020000
END:DAYLIGHT
END:VTIMEZONE
BEGIN:VEVENT
UID:993658d8-72f5-4f6f-b41b-586fa55582bf
DTSTAMP:20260422T091327Z
DESCRIPTION:Volunteer to serve meals for our first lunch service. Join us\,
  background check required. Masks optional
DTSTART;TZID=America/Los_Angeles:20260421T104500
DTEND;TZID=America/Los_Angeles:20260421T120000
LOCATION:Gary and Mary West Senior Wellness Center\, 1525 4th Ave\, San Die
 go\, CA 92101 US
SUMMARY:Lunch Service 1
END:VEVENT
END:VCALENDAR
