BEGIN:VCALENDAR
VERSION:2.0
PRODID:-//servingseniors.org//NONSGML kigkonsult.se iCalcreator 2.30.10//
CALSCALE:GREGORIAN
METHOD:PUBLISH
UID:b9845920-783f-4ac1-bf13-508420dae00b
X-WR-CALDESC:Volunteer to serve meals for our first lunch service. Join us\
 , background check required. Masks optional
X-WR-RELCALID:011dd5fea7c58c160af494ce7f0c266c
X-WR-TIMEZONE:America/Los_Angeles
BEGIN:VTIMEZONE
TZID:America/Los_Angeles
BEGIN:STANDARD
TZNAME:PST
DTSTART:20251102T020000
TZOFFSETFROM:-0700
TZOFFSETTO:-0800
RDATE:20261101T020000
END:STANDARD
BEGIN:DAYLIGHT
TZNAME:PDT
DTSTART:20260308T020000
TZOFFSETFROM:-0800
TZOFFSETTO:-0700
RDATE:20270314T020000
END:DAYLIGHT
END:VTIMEZONE
BEGIN:VEVENT
UID:5c345dba-d4f7-41ad-941d-f4278e599b3a
DTSTAMP:20260422T090545Z
DESCRIPTION:Volunteer to serve meals for our first lunch service. Join us\,
  background check required. Masks optional
DTSTART;TZID=America/Los_Angeles:20260422T104500
DTEND;TZID=America/Los_Angeles:20260422T120000
LOCATION:Gary and Mary West Senior Wellness Center\, 1525 4th Ave\, San Die
 go\, CA 92101 US
SUMMARY:Lunch Service 1
END:VEVENT
END:VCALENDAR
